﻿BEGIN:VCALENDAR
VERSION:2.0
BEGIN:VEVENT
SUMMARY:Rocky Horror Picture Show this Friday! Doors at 6:30 PM, show at 7! FREE with Blastercard!
DESCRIPTION:Rocky Horror Picture Show, this Friday, October 28th! Doors at 6:30 PM, show at 7! FREE with Blastercard!
DTSTART:20161029T010000Z
DTEND:20161029T030000Z
LOCATION:Bunker Hall
END:VEVENT
END:VCALENDAR
