﻿BEGIN:VCALENDAR
VERSION:2.0
BEGIN:VEVENT
SUMMARY:Study Abroad Fair TODAY!
DESCRIPTION:Learn about study abroad while sampling international cuisine! The event is on Nov. 2nd, 5-6:30 PM in the Green Center Lobby.
DTSTART:20221102T230000Z
DTEND:20221103T003000Z
LOCATION:Green Center Lobby
END:VEVENT
END:VCALENDAR
