﻿BEGIN:VCALENDAR
VERSION:2.0
BEGIN:VEVENT
SUMMARY:Offer and Salary Negotiation Workshop for Students
DESCRIPTION:Learn how to review and negotiate a job offer!
DTSTART:20251022T220000Z
DTEND:20251022T230000Z
LOCATION:McNeil 214
END:VEVENT
END:VCALENDAR
