﻿BEGIN:VCALENDAR
VERSION:2.0
BEGIN:VEVENT
SUMMARY:Fulbright Program Panel & Information Session Panel
DESCRIPTION:The Emerging Scholars Seminar Series offers seminars on topics of interest to undergraduate student researchers at Mines.
DTSTART:20260427T180000Z
DTEND:20260427T190000Z
LOCATION:Coorstek 150
END:VEVENT
END:VCALENDAR
