﻿BEGIN:VCALENDAR
VERSION:2.0
BEGIN:VEVENT
SUMMARY:Goldwater Scholarship Panel and Information Session
DESCRIPTION:The Emerging Scholars Seminar Series offers seminars on topics of interest to undergraduate student researchers at Mines.
DTSTART:20260428T200000Z
DTEND:20260428T205000Z
LOCATION:McNeil 214
END:VEVENT
END:VCALENDAR
