﻿BEGIN:VCALENDAR
VERSION:2.0
BEGIN:VEVENT
SUMMARY:Corebridge Financial Seminar Q2
DESCRIPTION:Social Security & Retirement
DTSTART:20260430T213000Z
DTEND:20260430T223000Z
LOCATION:Webinar
END:VEVENT
END:VCALENDAR
