﻿BEGIN:VCALENDAR
VERSION:2.0
BEGIN:VEVENT
SUMMARY:Mining Seminar Series: Grad Dissertations April 22
DESCRIPTION:Hear about exciting work from Carl Gorski, Sylvia Alvarado-Callisaya, Joseph Pearlman and Matt Mettler
DTSTART:20260422T220000Z
DTEND:20260422T230000Z
LOCATION:Brown Hall 125
END:VEVENT
END:VCALENDAR
