﻿BEGIN:VCALENDAR
VERSION:2.0
BEGIN:VEVENT
SUMMARY:You're invited to the Capstone Design Showcase!
DESCRIPTION:Mark your calendars for April 30th! See 80+ teams present their client-led multidisciplinary projects, prototypes, and builds
DTSTART:20260430T153000Z
DTEND:20260430T170000Z
LOCATION:Student Recreation Center, Parking Lot D
END:VEVENT
END:VCALENDAR
