﻿BEGIN:VCALENDAR
VERSION:2.0
BEGIN:VEVENT
SUMMARY:Mark your calendars: Mines Annual Earth Day Fair! (4/26)
DESCRIPTION:Want to learn more about sustainability/network with green organizations? Join us on Sun April 26 SC Ballrooms C/D/E @10am
DTSTART:20260426T160000Z
DTEND:20260426T190000Z
LOCATION:SC Ballrooms C/D/E
END:VEVENT
END:VCALENDAR
