﻿BEGIN:VCALENDAR
VERSION:2.0
BEGIN:VEVENT
SUMMARY:NDAs @ Mines: What YOU Should Know! (TODAY)
DESCRIPTION:Join ORA later today for a discussion about non-disclosure agreements (NDAs) and what to expect when you need one.
DTSTART:20260413T190000Z
DTEND:20260413T200000Z
LOCATION:Green Center Rm 224
END:VEVENT
END:VCALENDAR
