﻿BEGIN:VCALENDAR
VERSION:2.0
BEGIN:VEVENT
SUMMARY:Join us on 4/20 for Earth Day themed trivia!
DESCRIPTION:Do you have some sustainability-related knowledge up your sleeves? Test your brain and get some free food while you're at it!
DTSTART:20260420T230000Z
DTEND:20260421T000000Z
LOCATION:Spruce Tree House
END:VEVENT
END:VCALENDAR
