﻿BEGIN:VCALENDAR
VERSION:2.0
BEGIN:VEVENT
SUMMARY:Join us on 4/22 for an Earth Day Cleanup!
DESCRIPTION:Wanting to get outside and show your love for our earth on Earth Day?
DTSTART:20260422T200000Z
DTEND:20260422T230000Z
LOCATION:Kafadar Commons
END:VEVENT
END:VCALENDAR
