﻿BEGIN:VCALENDAR
VERSION:2.0
BEGIN:VEVENT
SUMMARY:SPS Game Night
DESCRIPTION:SPS will be hosting a game night on April 16th! Drop on by to catch a merry band and play the game Blood On The Clocktower.
DTSTART:20260417T010000Z
DTEND:20260417T033000Z
LOCATION:East Building 240
END:VEVENT
END:VCALENDAR
