﻿BEGIN:VCALENDAR
VERSION:2.0
BEGIN:VEVENT
SUMMARY:Krispy Kreme Donuts in Maple Plaza/Kafadar from 9am to 2pm!
DESCRIPTION:Come support music at Mines today! Kappa Kappa Psi has fresh donuts: glazed $3, fancy $4, or a snag a dozen for $18-$20.
DTSTART:20260413T150000Z
DTEND:20260413T200000Z
LOCATION:Maple Plaza/Kafadar Commons
END:VEVENT
END:VCALENDAR
