﻿BEGIN:VCALENDAR
VERSION:2.0
BEGIN:VEVENT
SUMMARY:Kickstart: Myth Busting Grind Culture
DESCRIPTION:Ditch the "grind" this Friday! Join Kickstart in East 320 at 4pm for food, games, and DIY self-care bags. RSVP on OreConnect!
DTSTART:20260424T220000Z
DTEND:20260425T000000Z
LOCATION:East Classroom 320
END:VEVENT
END:VCALENDAR
