﻿BEGIN:VCALENDAR
VERSION:2.0
BEGIN:VEVENT
SUMMARY:E-Days Feast at Mines Market
DESCRIPTION:Get Ready for Snow-E Days: Join Us for the E-Days Feast! April 15th 5:00 pm - 8:00 pm at Mines Market
DTSTART:20260415T230000Z
DTEND:20260416T020000Z
LOCATION:Mines Market 
END:VEVENT
END:VCALENDAR
