﻿BEGIN:VCALENDAR
VERSION:2.0
BEGIN:VEVENT
SUMMARY:Happening Today: E-Days Feast at Mines Market!
DESCRIPTION:Join us at Mines Market from 5:00 PM – 8:00 PM for an E-Days Feast to kick off the weekend!
DTSTART:20260415T230000Z
DTEND:20260416T020000Z
LOCATION:Mines Market 
END:VEVENT
END:VCALENDAR
