﻿BEGIN:VCALENDAR
VERSION:2.0
BEGIN:VEVENT
SUMMARY:WWOOF Host and WWOOFer Q&A
DESCRIPTION:Do you want to learn about WWOOF (worldwide opportunities on organic farms)? Wednesday (4/15) 4-5:30, Mines Park Greenhouse!
DTSTART:20260415T220000Z
DTEND:20260415T233000Z
LOCATION:Mines Park Greenhouse
END:VEVENT
END:VCALENDAR
