﻿BEGIN:VCALENDAR
VERSION:2.0
BEGIN:VEVENT
SUMMARY:Grab a PrE-Days Kit this Tuesday!
DESCRIPTION:Are you ready for E-Days?! Stop by our table from 12-3pm this Tuesday in the SC Atrium for fun wellness and safety items
DTSTART:20260414T180000Z
DTEND:20260414T210000Z
LOCATION:SC Atrium
END:VEVENT
END:VCALENDAR
