﻿BEGIN:VCALENDAR
VERSION:2.0
BEGIN:VEVENT
SUMMARY:Join IEEE Executive Team! Elections April 29th @4pm BBW250
DESCRIPTION:Interested in gaining leadership experience and getting involved in the electrical engineering department? Apply today!
DTSTART:20260429T220000Z
DTEND:20260429T230000Z
LOCATION:BBW250
END:VEVENT
END:VCALENDAR
