﻿BEGIN:VCALENDAR
VERSION:2.0
BEGIN:VEVENT
SUMMARY:IEEE & WEE Senior Sendoff | May 6th @5pm in Metals Hall
DESCRIPTION:Join IEEE & WEE for a celebration of the class of 2026! Refreshments will be served~
DTSTART:20260506T230000Z
DTEND:20260507T003000Z
LOCATION:Metals Hall
END:VEVENT
END:VCALENDAR
