﻿BEGIN:VCALENDAR
VERSION:2.0
BEGIN:VEVENT
SUMMARY:Graduate Christian Fellowship - Mon 4/13 at 6 pm, McNeil 215
DESCRIPTION:Graduate Students: Join us for a home-cooked meal, a time of fellowship, and a Bible study in 1 Corinthians 12!
DTSTART:20260414T000000Z
DTEND:20260414T013000Z
LOCATION:McNeil 215
END:VEVENT
END:VCALENDAR
