﻿BEGIN:VCALENDAR
VERSION:2.0
BEGIN:VEVENT
SUMMARY:Oaks Christian Fellowship + Bible Study
DESCRIPTION:Come fellowship with us in Friedhoff Hall at 7pm and then break into Bible study groups going over Psalm 139!
DTSTART:20260416T010000Z
DTEND:20260416T030000Z
LOCATION:Friedhoff Hall
END:VEVENT
END:VCALENDAR
