﻿BEGIN:VCALENDAR
VERSION:2.0
BEGIN:VEVENT
SUMMARY:E-Day Recovery Social
DESCRIPTION:Stop by for some coloring, bagels, coffee, or electrolyte drinks on April 20 in GC 217 from 10-11am
DTSTART:20260420T160000Z
DTEND:20260420T170000Z
LOCATION:Green Center 217
END:VEVENT
END:VCALENDAR
