﻿BEGIN:VCALENDAR
VERSION:2.0
BEGIN:VEVENT
SUMMARY:ASCE Springfest, 4/16 8:00 - 12:00 pm
DESCRIPTION:Join ASCE for our Springfest competition this Thursday and cheer on our Steel Bridge and Timber Strong teams competing.
DTSTART:20260416T140000Z
DTEND:20260416T180000Z
LOCATION:Steinhauer Fieldhouse
END:VEVENT
END:VCALENDAR
