﻿BEGIN:VCALENDAR
VERSION:2.0
BEGIN:VEVENT
SUMMARY:Countdown to Your Internship: Intern Celebration & Prep
DESCRIPTION:Heading into a summer internship? On 4/29, celebrate with the Career Center & VIP and get ready to crush your first day!
DTSTART:20260429T230000Z
DTEND:20260430T003000Z
LOCATION:Berthoud 243
END:VEVENT
END:VCALENDAR
