﻿BEGIN:VCALENDAR
VERSION:2.0
BEGIN:VEVENT
SUMMARY:ACM Research Labs Presentation
DESCRIPTION:Mines ACM is welcoming students from Mines's HPSS, Mirror, and Aria labs to present on their research work!
DTSTART:20260415T000000Z
DTEND:20260415T010000Z
LOCATION:McNeil 213
END:VEVENT
END:VCALENDAR
