﻿BEGIN:VCALENDAR
VERSION:2.0
BEGIN:VEVENT
SUMMARY:WGS Dinner With Faculty!
DESCRIPTION:Join WGS for the semester-ly Dinner With Faculty for students and faculty of Mines!
DTSTART:20260422T230000Z
DTEND:20260423T010000Z
LOCATION:Labriola Atrium
END:VEVENT
END:VCALENDAR
