﻿BEGIN:VCALENDAR
VERSION:2.0
BEGIN:VEVENT
SUMMARY:Breaking Bad Blue Hard Candy with Gastronauts!
DESCRIPTION:We NEED to COOK! Gastronauts will make blue hard candy just like Breaking Bad tonight in the spruce kitchen at 5pm.
DTSTART:20260415T230000Z
DTEND:20260416T003000Z
LOCATION:Spruce Lobby Kitchen
END:VEVENT
END:VCALENDAR
