﻿BEGIN:VCALENDAR
VERSION:2.0
BEGIN:VEVENT
SUMMARY:Free education research workshop on May 14
DESCRIPTION:Free education research workshop on May 14 hosted by the PEER Institute
DTSTART:20260514T150000Z
DTEND:20260514T180000Z
LOCATION:TBA
END:VEVENT
END:VCALENDAR
