﻿BEGIN:VCALENDAR
VERSION:2.0
BEGIN:VEVENT
SUMMARY:Society of Petroleum Engineers Annual Golf Tournament $25000
DESCRIPTION:Join SPE at our 2nd annual golf tournament at The Ridge at Castle Pines in Castle Rock
DTSTART:20260430T140000Z
DTEND:20260430T180000Z
LOCATION:The Ridge at Castle Pines
END:VEVENT
END:VCALENDAR
