﻿BEGIN:VCALENDAR
VERSION:2.0
BEGIN:VEVENT
SUMMARY:Moonlight Breakfast 2026
DESCRIPTION:Fuel up for finals at Moonlight Breakfast! Join us at Mines Market, April 7, 8–9:30pm.
DTSTART:20260507T140000Z
DTEND:20260507T153000Z
LOCATION:Mines Market
END:VEVENT
END:VCALENDAR
