﻿BEGIN:VCALENDAR
VERSION:2.0
BEGIN:VEVENT
SUMMARY:Faculty/Staff Appreciation Lunch TODAY!
DESCRIPTION:Join us TODAY for a Faculty & Staff Appreciation Lunch | Stratton Commons | 11:30 a.m. - 2:00 p.m.
DTSTART:20260416T173000Z
DTEND:20260416T200000Z
LOCATION:Stratton Commons
END:VEVENT
END:VCALENDAR
