﻿BEGIN:VCALENDAR
VERSION:2.0
BEGIN:VEVENT
SUMMARY:SRiE presents Sister Circle ! Today,12-1pm @Spruce Treehouse
DESCRIPTION:Sister Circles are an opportunity to share space and discuss intentional topics. Food Provided !
DTSTART:20260415T180000Z
DTEND:20260415T190000Z
LOCATION:Spruce Treehouse
END:VEVENT
END:VCALENDAR
