﻿BEGIN:VCALENDAR
VERSION:2.0
BEGIN:VEVENT
SUMMARY:E-Days Mining Games
DESCRIPTION:Come learn and compete in traditional mining practices!
DTSTART:20260418T140000Z
DTEND:20260418T180000Z
LOCATION:Q-Lot
END:VEVENT
END:VCALENDAR
