﻿BEGIN:VCALENDAR
VERSION:2.0
BEGIN:VEVENT
SUMMARY:Video Games & the Impact of Chronic Over-Stimulation on 4/20
DESCRIPTION:Learn more about the impact of chronic over-stimulation and gain the tools necessary to take back control.
DTSTART:20260420T220000Z
DTEND:20260420T223000Z
LOCATION:Virtual
END:VEVENT
END:VCALENDAR
