﻿BEGIN:VCALENDAR
VERSION:2.0
BEGIN:VEVENT
SUMMARY:RookiE-Days
DESCRIPTION:Come try out the events done by the Mines Mining Team, perfect for beginners, all majors and skill levels welcome
DTSTART:20260426T150000Z
DTEND:20260426T180000Z
LOCATION:
END:VEVENT
END:VCALENDAR
