﻿BEGIN:VCALENDAR
VERSION:2.0
BEGIN:VEVENT
SUMMARY:Faculty Awards Celebration - 04/29/26 @ 3:30pm.
DESCRIPTION:Can you believe our Faculty Awards Ceremony to celebrate our faculty's achievements & excellence is right around the corner?
DTSTART:20260429T213000Z
DTEND:20260430T000000Z
LOCATION:Studnet Center Grand Ballrooms
END:VEVENT
END:VCALENDAR
