﻿BEGIN:VCALENDAR
VERSION:2.0
BEGIN:VEVENT
SUMMARY:TODAY: Chronic Condition Support Group Meeting
DESCRIPTION:A space for students with chronic conditions (long-term/ongoing health issues) to gather for community, discussions, support.
DTSTART:20260417T220000Z
DTEND:20260417T230000Z
LOCATION:Maple Hall Conference Room
END:VEVENT
END:VCALENDAR
