﻿BEGIN:VCALENDAR
VERSION:2.0
BEGIN:VEVENT
SUMMARY:Sigma Xi: Behind-the-scenes tour Red Rocks Community College
DESCRIPTION:“Behind-the-scenes” tour Red Rocks Community College, organized by Mines Chapter of Sigma Xi, 4/27 (10-12:30)
DTSTART:20260427T160000Z
DTEND:20260427T183000Z
LOCATION:Red Rocks Community College
END:VEVENT
END:VCALENDAR
