﻿BEGIN:VCALENDAR
VERSION:2.0
BEGIN:VEVENT
SUMMARY:Mine Rescue Practice
DESCRIPTION:Mine Rescue will be meeting Monday from 6pm to 7:30pm in BB125 to discuss scene safety
DTSTART:20260421T000000Z
DTEND:20260421T013000Z
LOCATION:
END:VEVENT
END:VCALENDAR
