﻿BEGIN:VCALENDAR
VERSION:2.0
BEGIN:VEVENT
SUMMARY:QBE Seminar Series - Guest Lecture by Dr Allegra Aron, DU
DESCRIPTION:Novel Mass Spectrometry Methods Identify Metal-Binding Molecules Produced by Environmental Microbiota
DTSTART:20260422T170000Z
DTEND:20260422T180000Z
LOCATION:CoorsTek 150
END:VEVENT
END:VCALENDAR
