﻿BEGIN:VCALENDAR
VERSION:2.0
BEGIN:VEVENT
SUMMARY:Mines Robotics Club Build Club Mixer
DESCRIPTION:Come hang out with the Robotics Club and other build clubs with free Jersey Mike's catering!
DTSTART:20260423T000000Z
DTEND:20260423T020000Z
LOCATION:East Building 210
END:VEVENT
END:VCALENDAR
