﻿BEGIN:VCALENDAR
VERSION:2.0
BEGIN:VEVENT
SUMMARY:ACM Fusionbox Tech Talk
DESCRIPTION:Mines ACM is excited to host a tech talk from Fusionbox for a tech talk on UI/UX. We hope to see you there!
DTSTART:20260422T000000Z
DTEND:20260422T010000Z
LOCATION:McNeil 213
END:VEVENT
END:VCALENDAR
