﻿BEGIN:VCALENDAR
VERSION:2.0
BEGIN:VEVENT
SUMMARY:Anime Club 4/22 - Your Lie In April
DESCRIPTION:Anime Club meets at 6:30 PM in AH 151 every Wednesday. This meeting, we are watching
DTSTART:20260423T003000Z
DTEND:20260423T023000Z
LOCATION:AH151
END:VEVENT
END:VCALENDAR
