﻿BEGIN:VCALENDAR
VERSION:2.0
BEGIN:VEVENT
SUMMARY:CIM Bible Study - QnA
DESCRIPTION:Got questions about God? Join us this Friday (04/24) for a great meal, fellowship and Bible Study.
DTSTART:20260425T000000Z
DTEND:20260425T030000Z
LOCATION:Marquez 108
END:VEVENT
END:VCALENDAR
