﻿BEGIN:VCALENDAR
VERSION:2.0
BEGIN:VEVENT
SUMMARY:TPED Expo
DESCRIPTION:Come join in on a day of fun with the Theme Park Engineering and Design Club!
DTSTART:20260425T140000Z
DTEND:20260426T030000Z
LOCATION:Labriola Atrium
END:VEVENT
END:VCALENDAR
