﻿BEGIN:VCALENDAR
VERSION:2.0
BEGIN:VEVENT
SUMMARY:Join MPMC for some 40k and other games! April 25th 10am-2pm
DESCRIPTION:Join Mines Plastic Model Club on April 25th from 10am-2pm to play some 40k and other games. Bring a 1000 point list.
DTSTART:20260425T160000Z
DTEND:20260425T200000Z
LOCATION:Innovation Hub Cornerstone space (Back hall of Innovation hub)
END:VEVENT
END:VCALENDAR
