﻿BEGIN:VCALENDAR
VERSION:2.0
BEGIN:VEVENT
SUMMARY:May 21 Lunch Bunch:  Inside the Mines Foundation
DESCRIPTION:The Mines Foundation - you’ve heard the name . . . but what really happens behind the scenes?
DTSTART:20260521T180000Z
DTEND:20260521T190000Z
LOCATION:Virtual on Zoom
END:VEVENT
END:VCALENDAR
