﻿BEGIN:VCALENDAR
VERSION:2.0
BEGIN:VEVENT
SUMMARY:Skip the Lecture. Dig for Gems Instead.
DESCRIPTION:Pan for gems and try hands-on challenges at the Mines Museum today! Free Earth Day fun in the Discovery Lab.
DTSTART:20260422T160000Z
DTEND:20260422T200000Z
LOCATION:Mines Museum of Earth Science
END:VEVENT
END:VCALENDAR
